BEGIN:VCALENDAR
VERSION:2.0
PRODID:-//Enlightenment Events - ECPv6.15.12.2//NONSGML v1.0//EN
CALSCALE:GREGORIAN
METHOD:PUBLISH
X-ORIGINAL-URL:https://enlightenment-demo.onedesigns.com/events
X-WR-CALDESC:Events for Enlightenment Events
REFRESH-INTERVAL;VALUE=DURATION:PT1H
X-Robots-Tag:noindex
X-PUBLISHED-TTL:PT1H
BEGIN:VTIMEZONE
TZID:America/New_York
BEGIN:DAYLIGHT
TZOFFSETFROM:-0500
TZOFFSETTO:-0400
TZNAME:EDT
DTSTART:20190310T070000
END:DAYLIGHT
BEGIN:STANDARD
TZOFFSETFROM:-0400
TZOFFSETTO:-0500
TZNAME:EST
DTSTART:20191103T060000
END:STANDARD
BEGIN:DAYLIGHT
TZOFFSETFROM:-0500
TZOFFSETTO:-0400
TZNAME:EDT
DTSTART:20200308T070000
END:DAYLIGHT
BEGIN:STANDARD
TZOFFSETFROM:-0400
TZOFFSETTO:-0500
TZNAME:EST
DTSTART:20201101T060000
END:STANDARD
BEGIN:DAYLIGHT
TZOFFSETFROM:-0500
TZOFFSETTO:-0400
TZNAME:EDT
DTSTART:20210314T070000
END:DAYLIGHT
BEGIN:STANDARD
TZOFFSETFROM:-0400
TZOFFSETTO:-0500
TZNAME:EST
DTSTART:20211107T060000
END:STANDARD
END:VTIMEZONE
BEGIN:VEVENT
DTSTART;TZID=America/New_York:20201225T000000
DTEND;TZID=America/New_York:20201225T070000
DTSTAMP:20260422T150438
CREATED:20201122T234638Z
LAST-MODIFIED:20201217T144110Z
UID:311-1608854400-1608879600@enlightenment-demo.onedesigns.com
SUMMARY:Overwatch Overnight
DESCRIPTION:Nam quis tincidunt orci\, eu molestie augue. Nulla fringilla arcu sollicitudin tortor faucibus\, sed volutpat orci dignissim. Phasellus gravida ex leo\, non ultricies ligula auctor quis. Interdum et malesuada fames ac ante ipsum primis in faucibus. Vestibulum quis justo at neque tristique lobortis at at neque. Fusce tempus id tortor quis molestie. Sed cursus ornare porttitor. Morbi mollis neque nec arcu dictum malesuada eget sit amet est. Duis ut nibh nibh. Suspendisse facilisis nibh sed ligula hendrerit iaculis. Aenean semper tellus vel gravida hendrerit. Mauris tincidunt sagittis nibh in hendrerit. Nam accumsan et ex sit amet iaculis. Aliquam erat volutpat.
URL:https://enlightenment-demo.onedesigns.com/events/event/overwatch-overnight/2020-12-25/
LOCATION:Hard Rock Cafe\, 1501 Broadway\, New York\, NY\, 10036\, United States
CATEGORIES:Social Activities
ATTACH;FMTTYPE=image/jpeg:https://enlightenment-demo.onedesigns.com/events/wp-content/uploads/sites/6/2020/11/florian-olivo-Mf23RF8xArY-unsplash-scaled.jpg
ORGANIZER;CN="Manuel Olivares":MAILTO:manuelolivares@example.com
GEO:40.7570555;-73.9864838
X-APPLE-STRUCTURED-LOCATION;VALUE=URI;X-ADDRESS=Hard Rock Cafe 1501 Broadway New York NY 10036 United States;X-APPLE-RADIUS=500;X-TITLE=1501 Broadway:geo:-73.9864838,40.7570555
END:VEVENT
BEGIN:VEVENT
DTSTART;TZID=America/New_York:20201220T180000
DTEND;TZID=America/New_York:20201220T230000
DTSTAMP:20260422T150438
CREATED:20201125T012016Z
LAST-MODIFIED:20201217T144719Z
UID:376-1608487200-1608505200@enlightenment-demo.onedesigns.com
SUMMARY:Sunday Pub Crawl
DESCRIPTION:Aenean sed dui pharetra\, hendrerit arcu nec\, varius velit. Sed molestie\, justo eu ultrices hendrerit\, erat lacus efficitur ex\, id sodales ante ligula sit amet arcu. In tempor sed tortor lobortis venenatis. Maecenas volutpat nisi et enim dapibus\, sit amet tristique mi accumsan. Vivamus sit amet massa tincidunt\, congue ex non\, congue ex. Maecenas pellentesque sapien ac nisl sodales laoreet. Etiam eu dapibus felis.
URL:https://enlightenment-demo.onedesigns.com/events/event/sunday-pub-crawl/2020-12-20/
LOCATION:Hard Rock Cafe\, 1501 Broadway\, New York\, NY\, 10036\, United States
CATEGORIES:Food & Drink
ATTACH;FMTTYPE=image/jpeg:https://enlightenment-demo.onedesigns.com/events/wp-content/uploads/sites/6/2020/11/hangula-lucas-jYwjd5ASONs-unsplash-scaled.jpg
ORGANIZER;CN="Navin Singh":MAILTO:navinsingh@example.com
GEO:40.7570555;-73.9864838
X-APPLE-STRUCTURED-LOCATION;VALUE=URI;X-ADDRESS=Hard Rock Cafe 1501 Broadway New York NY 10036 United States;X-APPLE-RADIUS=500;X-TITLE=1501 Broadway:geo:-73.9864838,40.7570555
END:VEVENT
BEGIN:VEVENT
DTSTART;TZID=America/New_York:20201219T200000
DTEND;TZID=America/New_York:20201219T230000
DTSTAMP:20260422T150438
CREATED:20201123T003915Z
LAST-MODIFIED:20201217T143956Z
UID:331-1608408000-1608418800@enlightenment-demo.onedesigns.com
SUMMARY:Masked Ball Night
DESCRIPTION:Proin eros metus\, congue eu tempor vel\, lobortis sed tellus. Vivamus euismod nisl suscipit efficitur consequat. Etiam leo enim\, facilisis id ex id\, fringilla congue turpis. Aenean non nisl et justo finibus ultrices. Vivamus id sem sem. Sed at magna sed felis consequat maximus nec a ex. Mauris id sapien magna. Fusce semper augue quis sem sodales blandit. Maecenas non est odio. Cras finibus at purus sit amet gravida.
URL:https://enlightenment-demo.onedesigns.com/events/event/masked-ball-night/2020-12-19/
LOCATION:Hard Rock Cafe\, 1501 Broadway\, New York\, NY\, 10036\, United States
CATEGORIES:Social Activities
ATTACH;FMTTYPE=image/jpeg:https://enlightenment-demo.onedesigns.com/events/wp-content/uploads/sites/6/2020/11/pexels-andrea-piacquadio-787961-scaled.jpg
ORGANIZER;CN="Veronica Anderson":MAILTO:veronicaanderson@example.com
GEO:40.7570555;-73.9864838
X-APPLE-STRUCTURED-LOCATION;VALUE=URI;X-ADDRESS=Hard Rock Cafe 1501 Broadway New York NY 10036 United States;X-APPLE-RADIUS=500;X-TITLE=1501 Broadway:geo:-73.9864838,40.7570555
END:VEVENT
BEGIN:VEVENT
DTSTART;TZID=America/New_York:20201217T200000
DTEND;TZID=America/New_York:20201217T220000
DTSTAMP:20260422T150438
CREATED:20201118T203347Z
LAST-MODIFIED:20210117T114733Z
UID:173-1608235200-1608242400@enlightenment-demo.onedesigns.com
SUMMARY:Trivia Night with Friends
DESCRIPTION:Morbi vitae enim tincidunt\, ultrices erat quis\, posuere magna. Proin gravida orci quam\, sit amet molestie sapien varius in. Duis fringilla dolor nec nunc scelerisque\, at posuere libero suscipit. Proin purus turpis\, pulvinar fermentum ante et\, lacinia efficitur ex. Aenean pellentesque luctus sollicitudin. Etiam pretium eleifend metus in interdum. Vivamus pharetra augue in magna commodo\, bibendum sagittis sem sollicitudin.
URL:https://enlightenment-demo.onedesigns.com/events/event/trivia-night-with-friends/2020-12-17/
LOCATION:Hard Rock Cafe\, 1501 Broadway\, New York\, NY\, 10036\, United States
CATEGORIES:Social Activities
ATTACH;FMTTYPE=image/jpeg:https://enlightenment-demo.onedesigns.com/events/wp-content/uploads/sites/6/2020/11/Transit_Trivia_Night_12240727563.jpg
ORGANIZER;CN="Safira Anwar":MAILTO:safiraanwar@example.com
GEO:40.7570555;-73.9864838
X-APPLE-STRUCTURED-LOCATION;VALUE=URI;X-ADDRESS=Hard Rock Cafe 1501 Broadway New York NY 10036 United States;X-APPLE-RADIUS=500;X-TITLE=1501 Broadway:geo:-73.9864838,40.7570555
END:VEVENT
END:VCALENDAR