BEGIN:VCALENDAR
VERSION:2.0
PRODID:-//Enlightenment Events - ECPv6.15.12.2//NONSGML v1.0//EN
CALSCALE:GREGORIAN
METHOD:PUBLISH
X-WR-CALNAME:Enlightenment Events
X-ORIGINAL-URL:https://enlightenment-demo.onedesigns.com/events
X-WR-CALDESC:Events for Enlightenment Events
REFRESH-INTERVAL;VALUE=DURATION:PT1H
X-Robots-Tag:noindex
X-PUBLISHED-TTL:PT1H
BEGIN:VTIMEZONE
TZID:America/New_York
BEGIN:DAYLIGHT
TZOFFSETFROM:-0500
TZOFFSETTO:-0400
TZNAME:EDT
DTSTART:20260308T070000
END:DAYLIGHT
BEGIN:STANDARD
TZOFFSETFROM:-0400
TZOFFSETTO:-0500
TZNAME:EST
DTSTART:20261101T060000
END:STANDARD
BEGIN:DAYLIGHT
TZOFFSETFROM:-0500
TZOFFSETTO:-0400
TZNAME:EDT
DTSTART:20270314T070000
END:DAYLIGHT
BEGIN:STANDARD
TZOFFSETFROM:-0400
TZOFFSETTO:-0500
TZNAME:EST
DTSTART:20271107T060000
END:STANDARD
BEGIN:DAYLIGHT
TZOFFSETFROM:-0500
TZOFFSETTO:-0400
TZNAME:EDT
DTSTART:20280312T070000
END:DAYLIGHT
BEGIN:STANDARD
TZOFFSETFROM:-0400
TZOFFSETTO:-0500
TZNAME:EST
DTSTART:20281105T060000
END:STANDARD
BEGIN:DAYLIGHT
TZOFFSETFROM:-0500
TZOFFSETTO:-0400
TZNAME:EDT
DTSTART:20290311T070000
END:DAYLIGHT
BEGIN:STANDARD
TZOFFSETFROM:-0400
TZOFFSETTO:-0500
TZNAME:EST
DTSTART:20291104T060000
END:STANDARD
END:VTIMEZONE
BEGIN:VEVENT
DTSTART;TZID=America/New_York:20271201T070000
DTEND;TZID=America/New_York:20271201T083000
DTSTAMP:20260419T151502
CREATED:20201113T155241Z
LAST-MODIFIED:20201113T155241Z
UID:12539-1827644400-1827649800@enlightenment-demo.onedesigns.com
SUMMARY:Yoga Classes for Beginners
DESCRIPTION:Suspendisse dictum eget tortor et porttitor. Vivamus sed dui neque. Quisque metus neque\, pellentesque eu sapien euismod\, scelerisque pharetra ex. Mauris elit sem\, imperdiet iaculis consequat eu\, blandit ut ex. Sed pellentesque cursus risus. Cras lacus ligula\, tincidunt sed sem ut\, tempus feugiat arcu. Nam volutpat pulvinar est\, ac egestas felis pellentesque non.
URL:https://enlightenment-demo.onedesigns.com/events/event/yoga-classes-for-beginners/2027-12-01/
LOCATION:Sacred Brooklyn\, 334 Myrtle Avenue\, New York\, NY\, 11205\, United States
CATEGORIES:Outdoor & Sports
ATTACH;FMTTYPE=image/jpeg:https://enlightenment-demo.onedesigns.com/events/wp-content/uploads/sites/6/2020/11/geert-pieters-AfgJpWQH4lw-unsplash-scaled.jpg
ORGANIZER;CN="Veronica Anderson":MAILTO:veronicaanderson@example.com
GEO:40.6931152;-73.9731457
X-APPLE-STRUCTURED-LOCATION;VALUE=URI;X-ADDRESS=Sacred Brooklyn 334 Myrtle Avenue New York NY 11205 United States;X-APPLE-RADIUS=500;X-TITLE=334 Myrtle Avenue:geo:-73.9731457,40.6931152
END:VEVENT
BEGIN:VEVENT
DTSTART;TZID=America/New_York:20271208T070000
DTEND;TZID=America/New_York:20271208T083000
DTSTAMP:20260419T151502
CREATED:20201113T155241Z
LAST-MODIFIED:20201113T155241Z
UID:12551-1828249200-1828254600@enlightenment-demo.onedesigns.com
SUMMARY:Yoga Classes for Beginners
DESCRIPTION:Suspendisse dictum eget tortor et porttitor. Vivamus sed dui neque. Quisque metus neque\, pellentesque eu sapien euismod\, scelerisque pharetra ex. Mauris elit sem\, imperdiet iaculis consequat eu\, blandit ut ex. Sed pellentesque cursus risus. Cras lacus ligula\, tincidunt sed sem ut\, tempus feugiat arcu. Nam volutpat pulvinar est\, ac egestas felis pellentesque non.
URL:https://enlightenment-demo.onedesigns.com/events/event/yoga-classes-for-beginners/2027-12-08/
LOCATION:Sacred Brooklyn\, 334 Myrtle Avenue\, New York\, NY\, 11205\, United States
CATEGORIES:Outdoor & Sports
ATTACH;FMTTYPE=image/jpeg:https://enlightenment-demo.onedesigns.com/events/wp-content/uploads/sites/6/2020/11/geert-pieters-AfgJpWQH4lw-unsplash-scaled.jpg
ORGANIZER;CN="Veronica Anderson":MAILTO:veronicaanderson@example.com
GEO:40.6931152;-73.9731457
X-APPLE-STRUCTURED-LOCATION;VALUE=URI;X-ADDRESS=Sacred Brooklyn 334 Myrtle Avenue New York NY 11205 United States;X-APPLE-RADIUS=500;X-TITLE=334 Myrtle Avenue:geo:-73.9731457,40.6931152
END:VEVENT
BEGIN:VEVENT
DTSTART;TZID=America/New_York:20271215T070000
DTEND;TZID=America/New_York:20271215T083000
DTSTAMP:20260419T151502
CREATED:20201113T155241Z
LAST-MODIFIED:20201113T155241Z
UID:12569-1828854000-1828859400@enlightenment-demo.onedesigns.com
SUMMARY:Yoga Classes for Beginners
DESCRIPTION:Suspendisse dictum eget tortor et porttitor. Vivamus sed dui neque. Quisque metus neque\, pellentesque eu sapien euismod\, scelerisque pharetra ex. Mauris elit sem\, imperdiet iaculis consequat eu\, blandit ut ex. Sed pellentesque cursus risus. Cras lacus ligula\, tincidunt sed sem ut\, tempus feugiat arcu. Nam volutpat pulvinar est\, ac egestas felis pellentesque non.
URL:https://enlightenment-demo.onedesigns.com/events/event/yoga-classes-for-beginners/2027-12-15/
LOCATION:Sacred Brooklyn\, 334 Myrtle Avenue\, New York\, NY\, 11205\, United States
CATEGORIES:Outdoor & Sports
ATTACH;FMTTYPE=image/jpeg:https://enlightenment-demo.onedesigns.com/events/wp-content/uploads/sites/6/2020/11/geert-pieters-AfgJpWQH4lw-unsplash-scaled.jpg
ORGANIZER;CN="Veronica Anderson":MAILTO:veronicaanderson@example.com
GEO:40.6931152;-73.9731457
X-APPLE-STRUCTURED-LOCATION;VALUE=URI;X-ADDRESS=Sacred Brooklyn 334 Myrtle Avenue New York NY 11205 United States;X-APPLE-RADIUS=500;X-TITLE=334 Myrtle Avenue:geo:-73.9731457,40.6931152
END:VEVENT
BEGIN:VEVENT
DTSTART;TZID=America/New_York:20271222T070000
DTEND;TZID=America/New_York:20271222T083000
DTSTAMP:20260419T151502
CREATED:20201113T155241Z
LAST-MODIFIED:20201113T155241Z
UID:12584-1829458800-1829464200@enlightenment-demo.onedesigns.com
SUMMARY:Yoga Classes for Beginners
DESCRIPTION:Suspendisse dictum eget tortor et porttitor. Vivamus sed dui neque. Quisque metus neque\, pellentesque eu sapien euismod\, scelerisque pharetra ex. Mauris elit sem\, imperdiet iaculis consequat eu\, blandit ut ex. Sed pellentesque cursus risus. Cras lacus ligula\, tincidunt sed sem ut\, tempus feugiat arcu. Nam volutpat pulvinar est\, ac egestas felis pellentesque non.
URL:https://enlightenment-demo.onedesigns.com/events/event/yoga-classes-for-beginners/2027-12-22/
LOCATION:Sacred Brooklyn\, 334 Myrtle Avenue\, New York\, NY\, 11205\, United States
CATEGORIES:Outdoor & Sports
ATTACH;FMTTYPE=image/jpeg:https://enlightenment-demo.onedesigns.com/events/wp-content/uploads/sites/6/2020/11/geert-pieters-AfgJpWQH4lw-unsplash-scaled.jpg
ORGANIZER;CN="Veronica Anderson":MAILTO:veronicaanderson@example.com
GEO:40.6931152;-73.9731457
X-APPLE-STRUCTURED-LOCATION;VALUE=URI;X-ADDRESS=Sacred Brooklyn 334 Myrtle Avenue New York NY 11205 United States;X-APPLE-RADIUS=500;X-TITLE=334 Myrtle Avenue:geo:-73.9731457,40.6931152
END:VEVENT
BEGIN:VEVENT
DTSTART;TZID=America/New_York:20271229T070000
DTEND;TZID=America/New_York:20271229T083000
DTSTAMP:20260419T151502
CREATED:20201113T155241Z
LAST-MODIFIED:20201113T155241Z
UID:12604-1830063600-1830069000@enlightenment-demo.onedesigns.com
SUMMARY:Yoga Classes for Beginners
DESCRIPTION:Suspendisse dictum eget tortor et porttitor. Vivamus sed dui neque. Quisque metus neque\, pellentesque eu sapien euismod\, scelerisque pharetra ex. Mauris elit sem\, imperdiet iaculis consequat eu\, blandit ut ex. Sed pellentesque cursus risus. Cras lacus ligula\, tincidunt sed sem ut\, tempus feugiat arcu. Nam volutpat pulvinar est\, ac egestas felis pellentesque non.
URL:https://enlightenment-demo.onedesigns.com/events/event/yoga-classes-for-beginners/2027-12-29/
LOCATION:Sacred Brooklyn\, 334 Myrtle Avenue\, New York\, NY\, 11205\, United States
CATEGORIES:Outdoor & Sports
ATTACH;FMTTYPE=image/jpeg:https://enlightenment-demo.onedesigns.com/events/wp-content/uploads/sites/6/2020/11/geert-pieters-AfgJpWQH4lw-unsplash-scaled.jpg
ORGANIZER;CN="Veronica Anderson":MAILTO:veronicaanderson@example.com
GEO:40.6931152;-73.9731457
X-APPLE-STRUCTURED-LOCATION;VALUE=URI;X-ADDRESS=Sacred Brooklyn 334 Myrtle Avenue New York NY 11205 United States;X-APPLE-RADIUS=500;X-TITLE=334 Myrtle Avenue:geo:-73.9731457,40.6931152
END:VEVENT
BEGIN:VEVENT
DTSTART;TZID=America/New_York:20280105T070000
DTEND;TZID=America/New_York:20280105T083000
DTSTAMP:20260419T151502
CREATED:20201113T155241Z
LAST-MODIFIED:20201113T155241Z
UID:12621-1830668400-1830673800@enlightenment-demo.onedesigns.com
SUMMARY:Yoga Classes for Beginners
DESCRIPTION:Suspendisse dictum eget tortor et porttitor. Vivamus sed dui neque. Quisque metus neque\, pellentesque eu sapien euismod\, scelerisque pharetra ex. Mauris elit sem\, imperdiet iaculis consequat eu\, blandit ut ex. Sed pellentesque cursus risus. Cras lacus ligula\, tincidunt sed sem ut\, tempus feugiat arcu. Nam volutpat pulvinar est\, ac egestas felis pellentesque non.
URL:https://enlightenment-demo.onedesigns.com/events/event/yoga-classes-for-beginners/2028-01-05/
LOCATION:Sacred Brooklyn\, 334 Myrtle Avenue\, New York\, NY\, 11205\, United States
CATEGORIES:Outdoor & Sports
ATTACH;FMTTYPE=image/jpeg:https://enlightenment-demo.onedesigns.com/events/wp-content/uploads/sites/6/2020/11/geert-pieters-AfgJpWQH4lw-unsplash-scaled.jpg
ORGANIZER;CN="Veronica Anderson":MAILTO:veronicaanderson@example.com
GEO:40.6931152;-73.9731457
X-APPLE-STRUCTURED-LOCATION;VALUE=URI;X-ADDRESS=Sacred Brooklyn 334 Myrtle Avenue New York NY 11205 United States;X-APPLE-RADIUS=500;X-TITLE=334 Myrtle Avenue:geo:-73.9731457,40.6931152
END:VEVENT
BEGIN:VEVENT
DTSTART;TZID=America/New_York:20280112T070000
DTEND;TZID=America/New_York:20280112T083000
DTSTAMP:20260419T151502
CREATED:20201113T155241Z
LAST-MODIFIED:20201113T155241Z
UID:12633-1831273200-1831278600@enlightenment-demo.onedesigns.com
SUMMARY:Yoga Classes for Beginners
DESCRIPTION:Suspendisse dictum eget tortor et porttitor. Vivamus sed dui neque. Quisque metus neque\, pellentesque eu sapien euismod\, scelerisque pharetra ex. Mauris elit sem\, imperdiet iaculis consequat eu\, blandit ut ex. Sed pellentesque cursus risus. Cras lacus ligula\, tincidunt sed sem ut\, tempus feugiat arcu. Nam volutpat pulvinar est\, ac egestas felis pellentesque non.
URL:https://enlightenment-demo.onedesigns.com/events/event/yoga-classes-for-beginners/2028-01-12/
LOCATION:Sacred Brooklyn\, 334 Myrtle Avenue\, New York\, NY\, 11205\, United States
CATEGORIES:Outdoor & Sports
ATTACH;FMTTYPE=image/jpeg:https://enlightenment-demo.onedesigns.com/events/wp-content/uploads/sites/6/2020/11/geert-pieters-AfgJpWQH4lw-unsplash-scaled.jpg
ORGANIZER;CN="Veronica Anderson":MAILTO:veronicaanderson@example.com
GEO:40.6931152;-73.9731457
X-APPLE-STRUCTURED-LOCATION;VALUE=URI;X-ADDRESS=Sacred Brooklyn 334 Myrtle Avenue New York NY 11205 United States;X-APPLE-RADIUS=500;X-TITLE=334 Myrtle Avenue:geo:-73.9731457,40.6931152
END:VEVENT
BEGIN:VEVENT
DTSTART;TZID=America/New_York:20280119T070000
DTEND;TZID=America/New_York:20280119T083000
DTSTAMP:20260419T151502
CREATED:20201113T155241Z
LAST-MODIFIED:20201113T155241Z
UID:12653-1831878000-1831883400@enlightenment-demo.onedesigns.com
SUMMARY:Yoga Classes for Beginners
DESCRIPTION:Suspendisse dictum eget tortor et porttitor. Vivamus sed dui neque. Quisque metus neque\, pellentesque eu sapien euismod\, scelerisque pharetra ex. Mauris elit sem\, imperdiet iaculis consequat eu\, blandit ut ex. Sed pellentesque cursus risus. Cras lacus ligula\, tincidunt sed sem ut\, tempus feugiat arcu. Nam volutpat pulvinar est\, ac egestas felis pellentesque non.
URL:https://enlightenment-demo.onedesigns.com/events/event/yoga-classes-for-beginners/2028-01-19/
LOCATION:Sacred Brooklyn\, 334 Myrtle Avenue\, New York\, NY\, 11205\, United States
CATEGORIES:Outdoor & Sports
ATTACH;FMTTYPE=image/jpeg:https://enlightenment-demo.onedesigns.com/events/wp-content/uploads/sites/6/2020/11/geert-pieters-AfgJpWQH4lw-unsplash-scaled.jpg
ORGANIZER;CN="Veronica Anderson":MAILTO:veronicaanderson@example.com
GEO:40.6931152;-73.9731457
X-APPLE-STRUCTURED-LOCATION;VALUE=URI;X-ADDRESS=Sacred Brooklyn 334 Myrtle Avenue New York NY 11205 United States;X-APPLE-RADIUS=500;X-TITLE=334 Myrtle Avenue:geo:-73.9731457,40.6931152
END:VEVENT
BEGIN:VEVENT
DTSTART;TZID=America/New_York:20280126T070000
DTEND;TZID=America/New_York:20280126T083000
DTSTAMP:20260419T151502
CREATED:20201113T155241Z
LAST-MODIFIED:20201113T155241Z
UID:12665-1832482800-1832488200@enlightenment-demo.onedesigns.com
SUMMARY:Yoga Classes for Beginners
DESCRIPTION:Suspendisse dictum eget tortor et porttitor. Vivamus sed dui neque. Quisque metus neque\, pellentesque eu sapien euismod\, scelerisque pharetra ex. Mauris elit sem\, imperdiet iaculis consequat eu\, blandit ut ex. Sed pellentesque cursus risus. Cras lacus ligula\, tincidunt sed sem ut\, tempus feugiat arcu. Nam volutpat pulvinar est\, ac egestas felis pellentesque non.
URL:https://enlightenment-demo.onedesigns.com/events/event/yoga-classes-for-beginners/2028-01-26/
LOCATION:Sacred Brooklyn\, 334 Myrtle Avenue\, New York\, NY\, 11205\, United States
CATEGORIES:Outdoor & Sports
ATTACH;FMTTYPE=image/jpeg:https://enlightenment-demo.onedesigns.com/events/wp-content/uploads/sites/6/2020/11/geert-pieters-AfgJpWQH4lw-unsplash-scaled.jpg
ORGANIZER;CN="Veronica Anderson":MAILTO:veronicaanderson@example.com
GEO:40.6931152;-73.9731457
X-APPLE-STRUCTURED-LOCATION;VALUE=URI;X-ADDRESS=Sacred Brooklyn 334 Myrtle Avenue New York NY 11205 United States;X-APPLE-RADIUS=500;X-TITLE=334 Myrtle Avenue:geo:-73.9731457,40.6931152
END:VEVENT
BEGIN:VEVENT
DTSTART;TZID=America/New_York:20280202T070000
DTEND;TZID=America/New_York:20280202T083000
DTSTAMP:20260419T151502
CREATED:20201113T155241Z
LAST-MODIFIED:20201113T155241Z
UID:12685-1833087600-1833093000@enlightenment-demo.onedesigns.com
SUMMARY:Yoga Classes for Beginners
DESCRIPTION:Suspendisse dictum eget tortor et porttitor. Vivamus sed dui neque. Quisque metus neque\, pellentesque eu sapien euismod\, scelerisque pharetra ex. Mauris elit sem\, imperdiet iaculis consequat eu\, blandit ut ex. Sed pellentesque cursus risus. Cras lacus ligula\, tincidunt sed sem ut\, tempus feugiat arcu. Nam volutpat pulvinar est\, ac egestas felis pellentesque non.
URL:https://enlightenment-demo.onedesigns.com/events/event/yoga-classes-for-beginners/2028-02-02/
LOCATION:Sacred Brooklyn\, 334 Myrtle Avenue\, New York\, NY\, 11205\, United States
CATEGORIES:Outdoor & Sports
ATTACH;FMTTYPE=image/jpeg:https://enlightenment-demo.onedesigns.com/events/wp-content/uploads/sites/6/2020/11/geert-pieters-AfgJpWQH4lw-unsplash-scaled.jpg
ORGANIZER;CN="Veronica Anderson":MAILTO:veronicaanderson@example.com
GEO:40.6931152;-73.9731457
X-APPLE-STRUCTURED-LOCATION;VALUE=URI;X-ADDRESS=Sacred Brooklyn 334 Myrtle Avenue New York NY 11205 United States;X-APPLE-RADIUS=500;X-TITLE=334 Myrtle Avenue:geo:-73.9731457,40.6931152
END:VEVENT
BEGIN:VEVENT
DTSTART;TZID=America/New_York:20280209T070000
DTEND;TZID=America/New_York:20280209T083000
DTSTAMP:20260419T151502
CREATED:20201113T155241Z
LAST-MODIFIED:20201113T155241Z
UID:12698-1833692400-1833697800@enlightenment-demo.onedesigns.com
SUMMARY:Yoga Classes for Beginners
DESCRIPTION:Suspendisse dictum eget tortor et porttitor. Vivamus sed dui neque. Quisque metus neque\, pellentesque eu sapien euismod\, scelerisque pharetra ex. Mauris elit sem\, imperdiet iaculis consequat eu\, blandit ut ex. Sed pellentesque cursus risus. Cras lacus ligula\, tincidunt sed sem ut\, tempus feugiat arcu. Nam volutpat pulvinar est\, ac egestas felis pellentesque non.
URL:https://enlightenment-demo.onedesigns.com/events/event/yoga-classes-for-beginners/2028-02-09/
LOCATION:Sacred Brooklyn\, 334 Myrtle Avenue\, New York\, NY\, 11205\, United States
CATEGORIES:Outdoor & Sports
ATTACH;FMTTYPE=image/jpeg:https://enlightenment-demo.onedesigns.com/events/wp-content/uploads/sites/6/2020/11/geert-pieters-AfgJpWQH4lw-unsplash-scaled.jpg
ORGANIZER;CN="Veronica Anderson":MAILTO:veronicaanderson@example.com
GEO:40.6931152;-73.9731457
X-APPLE-STRUCTURED-LOCATION;VALUE=URI;X-ADDRESS=Sacred Brooklyn 334 Myrtle Avenue New York NY 11205 United States;X-APPLE-RADIUS=500;X-TITLE=334 Myrtle Avenue:geo:-73.9731457,40.6931152
END:VEVENT
BEGIN:VEVENT
DTSTART;TZID=America/New_York:20280216T070000
DTEND;TZID=America/New_York:20280216T083000
DTSTAMP:20260419T151502
CREATED:20201113T155241Z
LAST-MODIFIED:20201113T155241Z
UID:12716-1834297200-1834302600@enlightenment-demo.onedesigns.com
SUMMARY:Yoga Classes for Beginners
DESCRIPTION:Suspendisse dictum eget tortor et porttitor. Vivamus sed dui neque. Quisque metus neque\, pellentesque eu sapien euismod\, scelerisque pharetra ex. Mauris elit sem\, imperdiet iaculis consequat eu\, blandit ut ex. Sed pellentesque cursus risus. Cras lacus ligula\, tincidunt sed sem ut\, tempus feugiat arcu. Nam volutpat pulvinar est\, ac egestas felis pellentesque non.
URL:https://enlightenment-demo.onedesigns.com/events/event/yoga-classes-for-beginners/2028-02-16/
LOCATION:Sacred Brooklyn\, 334 Myrtle Avenue\, New York\, NY\, 11205\, United States
CATEGORIES:Outdoor & Sports
ATTACH;FMTTYPE=image/jpeg:https://enlightenment-demo.onedesigns.com/events/wp-content/uploads/sites/6/2020/11/geert-pieters-AfgJpWQH4lw-unsplash-scaled.jpg
ORGANIZER;CN="Veronica Anderson":MAILTO:veronicaanderson@example.com
GEO:40.6931152;-73.9731457
X-APPLE-STRUCTURED-LOCATION;VALUE=URI;X-ADDRESS=Sacred Brooklyn 334 Myrtle Avenue New York NY 11205 United States;X-APPLE-RADIUS=500;X-TITLE=334 Myrtle Avenue:geo:-73.9731457,40.6931152
END:VEVENT
BEGIN:VEVENT
DTSTART;TZID=America/New_York:20280223T070000
DTEND;TZID=America/New_York:20280223T083000
DTSTAMP:20260419T151502
CREATED:20201113T155241Z
LAST-MODIFIED:20201113T155241Z
UID:12729-1834902000-1834907400@enlightenment-demo.onedesigns.com
SUMMARY:Yoga Classes for Beginners
DESCRIPTION:Suspendisse dictum eget tortor et porttitor. Vivamus sed dui neque. Quisque metus neque\, pellentesque eu sapien euismod\, scelerisque pharetra ex. Mauris elit sem\, imperdiet iaculis consequat eu\, blandit ut ex. Sed pellentesque cursus risus. Cras lacus ligula\, tincidunt sed sem ut\, tempus feugiat arcu. Nam volutpat pulvinar est\, ac egestas felis pellentesque non.
URL:https://enlightenment-demo.onedesigns.com/events/event/yoga-classes-for-beginners/2028-02-23/
LOCATION:Sacred Brooklyn\, 334 Myrtle Avenue\, New York\, NY\, 11205\, United States
CATEGORIES:Outdoor & Sports
ATTACH;FMTTYPE=image/jpeg:https://enlightenment-demo.onedesigns.com/events/wp-content/uploads/sites/6/2020/11/geert-pieters-AfgJpWQH4lw-unsplash-scaled.jpg
ORGANIZER;CN="Veronica Anderson":MAILTO:veronicaanderson@example.com
GEO:40.6931152;-73.9731457
X-APPLE-STRUCTURED-LOCATION;VALUE=URI;X-ADDRESS=Sacred Brooklyn 334 Myrtle Avenue New York NY 11205 United States;X-APPLE-RADIUS=500;X-TITLE=334 Myrtle Avenue:geo:-73.9731457,40.6931152
END:VEVENT
BEGIN:VEVENT
DTSTART;TZID=America/New_York:20280301T070000
DTEND;TZID=America/New_York:20280301T083000
DTSTAMP:20260419T151502
CREATED:20201113T155241Z
LAST-MODIFIED:20201113T155241Z
UID:12754-1835506800-1835512200@enlightenment-demo.onedesigns.com
SUMMARY:Yoga Classes for Beginners
DESCRIPTION:Suspendisse dictum eget tortor et porttitor. Vivamus sed dui neque. Quisque metus neque\, pellentesque eu sapien euismod\, scelerisque pharetra ex. Mauris elit sem\, imperdiet iaculis consequat eu\, blandit ut ex. Sed pellentesque cursus risus. Cras lacus ligula\, tincidunt sed sem ut\, tempus feugiat arcu. Nam volutpat pulvinar est\, ac egestas felis pellentesque non.
URL:https://enlightenment-demo.onedesigns.com/events/event/yoga-classes-for-beginners/2028-03-01/
LOCATION:Sacred Brooklyn\, 334 Myrtle Avenue\, New York\, NY\, 11205\, United States
CATEGORIES:Outdoor & Sports
ATTACH;FMTTYPE=image/jpeg:https://enlightenment-demo.onedesigns.com/events/wp-content/uploads/sites/6/2020/11/geert-pieters-AfgJpWQH4lw-unsplash-scaled.jpg
ORGANIZER;CN="Veronica Anderson":MAILTO:veronicaanderson@example.com
GEO:40.6931152;-73.9731457
X-APPLE-STRUCTURED-LOCATION;VALUE=URI;X-ADDRESS=Sacred Brooklyn 334 Myrtle Avenue New York NY 11205 United States;X-APPLE-RADIUS=500;X-TITLE=334 Myrtle Avenue:geo:-73.9731457,40.6931152
END:VEVENT
BEGIN:VEVENT
DTSTART;TZID=America/New_York:20280308T070000
DTEND;TZID=America/New_York:20280308T083000
DTSTAMP:20260419T151502
CREATED:20201113T155241Z
LAST-MODIFIED:20201113T155241Z
UID:12766-1836111600-1836117000@enlightenment-demo.onedesigns.com
SUMMARY:Yoga Classes for Beginners
DESCRIPTION:Suspendisse dictum eget tortor et porttitor. Vivamus sed dui neque. Quisque metus neque\, pellentesque eu sapien euismod\, scelerisque pharetra ex. Mauris elit sem\, imperdiet iaculis consequat eu\, blandit ut ex. Sed pellentesque cursus risus. Cras lacus ligula\, tincidunt sed sem ut\, tempus feugiat arcu. Nam volutpat pulvinar est\, ac egestas felis pellentesque non.
URL:https://enlightenment-demo.onedesigns.com/events/event/yoga-classes-for-beginners/2028-03-08/
LOCATION:Sacred Brooklyn\, 334 Myrtle Avenue\, New York\, NY\, 11205\, United States
CATEGORIES:Outdoor & Sports
ATTACH;FMTTYPE=image/jpeg:https://enlightenment-demo.onedesigns.com/events/wp-content/uploads/sites/6/2020/11/geert-pieters-AfgJpWQH4lw-unsplash-scaled.jpg
ORGANIZER;CN="Veronica Anderson":MAILTO:veronicaanderson@example.com
GEO:40.6931152;-73.9731457
X-APPLE-STRUCTURED-LOCATION;VALUE=URI;X-ADDRESS=Sacred Brooklyn 334 Myrtle Avenue New York NY 11205 United States;X-APPLE-RADIUS=500;X-TITLE=334 Myrtle Avenue:geo:-73.9731457,40.6931152
END:VEVENT
BEGIN:VEVENT
DTSTART;TZID=America/New_York:20280315T070000
DTEND;TZID=America/New_York:20280315T083000
DTSTAMP:20260419T151502
CREATED:20201113T155241Z
LAST-MODIFIED:20201113T155241Z
UID:12784-1836716400-1836721800@enlightenment-demo.onedesigns.com
SUMMARY:Yoga Classes for Beginners
DESCRIPTION:Suspendisse dictum eget tortor et porttitor. Vivamus sed dui neque. Quisque metus neque\, pellentesque eu sapien euismod\, scelerisque pharetra ex. Mauris elit sem\, imperdiet iaculis consequat eu\, blandit ut ex. Sed pellentesque cursus risus. Cras lacus ligula\, tincidunt sed sem ut\, tempus feugiat arcu. Nam volutpat pulvinar est\, ac egestas felis pellentesque non.
URL:https://enlightenment-demo.onedesigns.com/events/event/yoga-classes-for-beginners/2028-03-15/
LOCATION:Sacred Brooklyn\, 334 Myrtle Avenue\, New York\, NY\, 11205\, United States
CATEGORIES:Outdoor & Sports
ATTACH;FMTTYPE=image/jpeg:https://enlightenment-demo.onedesigns.com/events/wp-content/uploads/sites/6/2020/11/geert-pieters-AfgJpWQH4lw-unsplash-scaled.jpg
ORGANIZER;CN="Veronica Anderson":MAILTO:veronicaanderson@example.com
GEO:40.6931152;-73.9731457
X-APPLE-STRUCTURED-LOCATION;VALUE=URI;X-ADDRESS=Sacred Brooklyn 334 Myrtle Avenue New York NY 11205 United States;X-APPLE-RADIUS=500;X-TITLE=334 Myrtle Avenue:geo:-73.9731457,40.6931152
END:VEVENT
BEGIN:VEVENT
DTSTART;TZID=America/New_York:20280322T070000
DTEND;TZID=America/New_York:20280322T083000
DTSTAMP:20260419T151502
CREATED:20201113T155241Z
LAST-MODIFIED:20201113T155241Z
UID:12798-1837321200-1837326600@enlightenment-demo.onedesigns.com
SUMMARY:Yoga Classes for Beginners
DESCRIPTION:Suspendisse dictum eget tortor et porttitor. Vivamus sed dui neque. Quisque metus neque\, pellentesque eu sapien euismod\, scelerisque pharetra ex. Mauris elit sem\, imperdiet iaculis consequat eu\, blandit ut ex. Sed pellentesque cursus risus. Cras lacus ligula\, tincidunt sed sem ut\, tempus feugiat arcu. Nam volutpat pulvinar est\, ac egestas felis pellentesque non.
URL:https://enlightenment-demo.onedesigns.com/events/event/yoga-classes-for-beginners/2028-03-22/
LOCATION:Sacred Brooklyn\, 334 Myrtle Avenue\, New York\, NY\, 11205\, United States
CATEGORIES:Outdoor & Sports
ATTACH;FMTTYPE=image/jpeg:https://enlightenment-demo.onedesigns.com/events/wp-content/uploads/sites/6/2020/11/geert-pieters-AfgJpWQH4lw-unsplash-scaled.jpg
ORGANIZER;CN="Veronica Anderson":MAILTO:veronicaanderson@example.com
GEO:40.6931152;-73.9731457
X-APPLE-STRUCTURED-LOCATION;VALUE=URI;X-ADDRESS=Sacred Brooklyn 334 Myrtle Avenue New York NY 11205 United States;X-APPLE-RADIUS=500;X-TITLE=334 Myrtle Avenue:geo:-73.9731457,40.6931152
END:VEVENT
BEGIN:VEVENT
DTSTART;TZID=America/New_York:20280329T070000
DTEND;TZID=America/New_York:20280329T083000
DTSTAMP:20260419T151502
CREATED:20201113T155241Z
LAST-MODIFIED:20201113T155241Z
UID:12817-1837926000-1837931400@enlightenment-demo.onedesigns.com
SUMMARY:Yoga Classes for Beginners
DESCRIPTION:Suspendisse dictum eget tortor et porttitor. Vivamus sed dui neque. Quisque metus neque\, pellentesque eu sapien euismod\, scelerisque pharetra ex. Mauris elit sem\, imperdiet iaculis consequat eu\, blandit ut ex. Sed pellentesque cursus risus. Cras lacus ligula\, tincidunt sed sem ut\, tempus feugiat arcu. Nam volutpat pulvinar est\, ac egestas felis pellentesque non.
URL:https://enlightenment-demo.onedesigns.com/events/event/yoga-classes-for-beginners/2028-03-29/
LOCATION:Sacred Brooklyn\, 334 Myrtle Avenue\, New York\, NY\, 11205\, United States
CATEGORIES:Outdoor & Sports
ATTACH;FMTTYPE=image/jpeg:https://enlightenment-demo.onedesigns.com/events/wp-content/uploads/sites/6/2020/11/geert-pieters-AfgJpWQH4lw-unsplash-scaled.jpg
ORGANIZER;CN="Veronica Anderson":MAILTO:veronicaanderson@example.com
GEO:40.6931152;-73.9731457
X-APPLE-STRUCTURED-LOCATION;VALUE=URI;X-ADDRESS=Sacred Brooklyn 334 Myrtle Avenue New York NY 11205 United States;X-APPLE-RADIUS=500;X-TITLE=334 Myrtle Avenue:geo:-73.9731457,40.6931152
END:VEVENT
BEGIN:VEVENT
DTSTART;TZID=America/New_York:20280405T070000
DTEND;TZID=America/New_York:20280405T083000
DTSTAMP:20260419T151502
CREATED:20201113T155241Z
LAST-MODIFIED:20201113T155241Z
UID:12833-1838530800-1838536200@enlightenment-demo.onedesigns.com
SUMMARY:Yoga Classes for Beginners
DESCRIPTION:Suspendisse dictum eget tortor et porttitor. Vivamus sed dui neque. Quisque metus neque\, pellentesque eu sapien euismod\, scelerisque pharetra ex. Mauris elit sem\, imperdiet iaculis consequat eu\, blandit ut ex. Sed pellentesque cursus risus. Cras lacus ligula\, tincidunt sed sem ut\, tempus feugiat arcu. Nam volutpat pulvinar est\, ac egestas felis pellentesque non.
URL:https://enlightenment-demo.onedesigns.com/events/event/yoga-classes-for-beginners/2028-04-05/
LOCATION:Sacred Brooklyn\, 334 Myrtle Avenue\, New York\, NY\, 11205\, United States
CATEGORIES:Outdoor & Sports
ATTACH;FMTTYPE=image/jpeg:https://enlightenment-demo.onedesigns.com/events/wp-content/uploads/sites/6/2020/11/geert-pieters-AfgJpWQH4lw-unsplash-scaled.jpg
ORGANIZER;CN="Veronica Anderson":MAILTO:veronicaanderson@example.com
GEO:40.6931152;-73.9731457
X-APPLE-STRUCTURED-LOCATION;VALUE=URI;X-ADDRESS=Sacred Brooklyn 334 Myrtle Avenue New York NY 11205 United States;X-APPLE-RADIUS=500;X-TITLE=334 Myrtle Avenue:geo:-73.9731457,40.6931152
END:VEVENT
BEGIN:VEVENT
DTSTART;TZID=America/New_York:20280412T070000
DTEND;TZID=America/New_York:20280412T083000
DTSTAMP:20260419T151502
CREATED:20201113T155241Z
LAST-MODIFIED:20201113T155241Z
UID:12845-1839135600-1839141000@enlightenment-demo.onedesigns.com
SUMMARY:Yoga Classes for Beginners
DESCRIPTION:Suspendisse dictum eget tortor et porttitor. Vivamus sed dui neque. Quisque metus neque\, pellentesque eu sapien euismod\, scelerisque pharetra ex. Mauris elit sem\, imperdiet iaculis consequat eu\, blandit ut ex. Sed pellentesque cursus risus. Cras lacus ligula\, tincidunt sed sem ut\, tempus feugiat arcu. Nam volutpat pulvinar est\, ac egestas felis pellentesque non.
URL:https://enlightenment-demo.onedesigns.com/events/event/yoga-classes-for-beginners/2028-04-12/
LOCATION:Sacred Brooklyn\, 334 Myrtle Avenue\, New York\, NY\, 11205\, United States
CATEGORIES:Outdoor & Sports
ATTACH;FMTTYPE=image/jpeg:https://enlightenment-demo.onedesigns.com/events/wp-content/uploads/sites/6/2020/11/geert-pieters-AfgJpWQH4lw-unsplash-scaled.jpg
ORGANIZER;CN="Veronica Anderson":MAILTO:veronicaanderson@example.com
GEO:40.6931152;-73.9731457
X-APPLE-STRUCTURED-LOCATION;VALUE=URI;X-ADDRESS=Sacred Brooklyn 334 Myrtle Avenue New York NY 11205 United States;X-APPLE-RADIUS=500;X-TITLE=334 Myrtle Avenue:geo:-73.9731457,40.6931152
END:VEVENT
END:VCALENDAR