BEGIN:VCALENDAR
VERSION:2.0
PRODID:-//Enlightenment Events - ECPv6.15.12.2//NONSGML v1.0//EN
CALSCALE:GREGORIAN
METHOD:PUBLISH
X-ORIGINAL-URL:https://enlightenment-demo.onedesigns.com/events
X-WR-CALDESC:Events for Enlightenment Events
REFRESH-INTERVAL;VALUE=DURATION:PT1H
X-Robots-Tag:noindex
X-PUBLISHED-TTL:PT1H
BEGIN:VTIMEZONE
TZID:America/New_York
BEGIN:DAYLIGHT
TZOFFSETFROM:-0500
TZOFFSETTO:-0400
TZNAME:EDT
DTSTART:20250309T070000
END:DAYLIGHT
BEGIN:STANDARD
TZOFFSETFROM:-0400
TZOFFSETTO:-0500
TZNAME:EST
DTSTART:20251102T060000
END:STANDARD
BEGIN:DAYLIGHT
TZOFFSETFROM:-0500
TZOFFSETTO:-0400
TZNAME:EDT
DTSTART:20260308T070000
END:DAYLIGHT
BEGIN:STANDARD
TZOFFSETFROM:-0400
TZOFFSETTO:-0500
TZNAME:EST
DTSTART:20261101T060000
END:STANDARD
BEGIN:DAYLIGHT
TZOFFSETFROM:-0500
TZOFFSETTO:-0400
TZNAME:EDT
DTSTART:20270314T070000
END:DAYLIGHT
BEGIN:STANDARD
TZOFFSETFROM:-0400
TZOFFSETTO:-0500
TZNAME:EST
DTSTART:20271107T060000
END:STANDARD
BEGIN:DAYLIGHT
TZOFFSETFROM:-0500
TZOFFSETTO:-0400
TZNAME:EDT
DTSTART:20280312T070000
END:DAYLIGHT
BEGIN:STANDARD
TZOFFSETFROM:-0400
TZOFFSETTO:-0500
TZNAME:EST
DTSTART:20281105T060000
END:STANDARD
END:VTIMEZONE
BEGIN:VEVENT
DTSTART;TZID=America/New_York:20260831T080000
DTEND;TZID=America/New_York:20260907T170000
DTSTAMP:20260419T101006
CREATED:20201122T223839Z
LAST-MODIFIED:20201122T223839Z
UID:11451-1788163200-1788800400@enlightenment-demo.onedesigns.com
SUMMARY:US Open Tennis Championships
DESCRIPTION:The United States Open Tennis Championships is a hard court tennis tournament. The tournament is the modern version of one of the oldest tennis championships in the world\, the U.S. National Championship\, for which men’s singles and men’s doubles were first played in 1881. Since 1987\, the US Open has been chronologically the fourth and final Grand Slam tournament of the year. The other three\, in chronological order\, are the Australian Open\, the French Open\, and Wimbledon. The US Open starts on the last Monday of August and continues for two weeks\, with the middle weekend coinciding with the U.S. Labor Day holiday. Wikipedia
URL:https://enlightenment-demo.onedesigns.com/events/event/us-open-tennis-championships/2026-08-31/
LOCATION:USTA Billie Jean King National Tennis Center\, Flushing Meadow - Corona Park\, New York\, NY\, 11368\, United States
CATEGORIES:Time Out
ATTACH;FMTTYPE=image/jpeg:https://enlightenment-demo.onedesigns.com/events/wp-content/uploads/sites/6/2020/11/pexels-raj-tatavarthy-171568-scaled.jpg
GEO:40.7400275;-73.8406953
X-APPLE-STRUCTURED-LOCATION;VALUE=URI;X-ADDRESS=USTA Billie Jean King National Tennis Center Flushing Meadow - Corona Park New York NY 11368 United States;X-APPLE-RADIUS=500;X-TITLE=Flushing Meadow - Corona Park:geo:-73.8406953,40.7400275
END:VEVENT
BEGIN:VEVENT
DTSTART;TZID=America/New_York:20270830T080000
DTEND;TZID=America/New_York:20270906T170000
DTSTAMP:20260419T101006
CREATED:20201122T223839Z
LAST-MODIFIED:20201122T223839Z
UID:12292-1819612800-1820250000@enlightenment-demo.onedesigns.com
SUMMARY:US Open Tennis Championships
DESCRIPTION:The United States Open Tennis Championships is a hard court tennis tournament. The tournament is the modern version of one of the oldest tennis championships in the world\, the U.S. National Championship\, for which men’s singles and men’s doubles were first played in 1881. Since 1987\, the US Open has been chronologically the fourth and final Grand Slam tournament of the year. The other three\, in chronological order\, are the Australian Open\, the French Open\, and Wimbledon. The US Open starts on the last Monday of August and continues for two weeks\, with the middle weekend coinciding with the U.S. Labor Day holiday. Wikipedia
URL:https://enlightenment-demo.onedesigns.com/events/event/us-open-tennis-championships/2027-08-30/
LOCATION:USTA Billie Jean King National Tennis Center\, Flushing Meadow - Corona Park\, New York\, NY\, 11368\, United States
CATEGORIES:Time Out
ATTACH;FMTTYPE=image/jpeg:https://enlightenment-demo.onedesigns.com/events/wp-content/uploads/sites/6/2020/11/pexels-raj-tatavarthy-171568-scaled.jpg
GEO:40.7400275;-73.8406953
X-APPLE-STRUCTURED-LOCATION;VALUE=URI;X-ADDRESS=USTA Billie Jean King National Tennis Center Flushing Meadow - Corona Park New York NY 11368 United States;X-APPLE-RADIUS=500;X-TITLE=Flushing Meadow - Corona Park:geo:-73.8406953,40.7400275
END:VEVENT
END:VCALENDAR