BEGIN:VCALENDAR
VERSION:2.0
PRODID:-//Enlightenment Events - ECPv6.15.12.2//NONSGML v1.0//EN
CALSCALE:GREGORIAN
METHOD:PUBLISH
X-ORIGINAL-URL:https://enlightenment-demo.onedesigns.com/events
X-WR-CALDESC:Events for Enlightenment Events
REFRESH-INTERVAL;VALUE=DURATION:PT1H
X-Robots-Tag:noindex
X-PUBLISHED-TTL:PT1H
BEGIN:VTIMEZONE
TZID:America/New_York
BEGIN:DAYLIGHT
TZOFFSETFROM:-0500
TZOFFSETTO:-0400
TZNAME:EDT
DTSTART:20260308T070000
END:DAYLIGHT
BEGIN:STANDARD
TZOFFSETFROM:-0400
TZOFFSETTO:-0500
TZNAME:EST
DTSTART:20261101T060000
END:STANDARD
BEGIN:DAYLIGHT
TZOFFSETFROM:-0500
TZOFFSETTO:-0400
TZNAME:EDT
DTSTART:20270314T070000
END:DAYLIGHT
BEGIN:STANDARD
TZOFFSETFROM:-0400
TZOFFSETTO:-0500
TZNAME:EST
DTSTART:20271107T060000
END:STANDARD
BEGIN:DAYLIGHT
TZOFFSETFROM:-0500
TZOFFSETTO:-0400
TZNAME:EDT
DTSTART:20280312T070000
END:DAYLIGHT
BEGIN:STANDARD
TZOFFSETFROM:-0400
TZOFFSETTO:-0500
TZNAME:EST
DTSTART:20281105T060000
END:STANDARD
BEGIN:DAYLIGHT
TZOFFSETFROM:-0500
TZOFFSETTO:-0400
TZNAME:EDT
DTSTART:20290311T070000
END:DAYLIGHT
BEGIN:STANDARD
TZOFFSETFROM:-0400
TZOFFSETTO:-0500
TZNAME:EST
DTSTART:20291104T060000
END:STANDARD
END:VTIMEZONE
BEGIN:VEVENT
DTSTART;TZID=America/New_York:20270512T140000
DTEND;TZID=America/New_York:20270512T150000
DTSTAMP:20260419T094427
CREATED:20201116T224548Z
LAST-MODIFIED:20201116T224548Z
UID:12055-1810130400-1810134000@enlightenment-demo.onedesigns.com
SUMMARY:Online Training Course
DESCRIPTION:The live stream will show up here after purchasing a ticket. \n \n\n\n\nThis is a virtual event with hidden content and ticket sales. The live stream has been hidden using the [tribe_tickets_protected_content] shortcode. You can configure the Virtual Events add-on to show the live stream only to ticket holders. Users need to be logged in for this feature to work. \n\n\n\n\n \n\n\n\n 
URL:https://enlightenment-demo.onedesigns.com/events/event/online-training-course/2027-05-12/
CATEGORIES:Classes
ATTACH;FMTTYPE=image/jpeg:https://enlightenment-demo.onedesigns.com/events/wp-content/uploads/sites/6/2020/11/nathana-reboucas-SljXQgsYXtk-unsplash-scaled.jpg
ORGANIZER;CN="Larry Bowman":MAILTO:larrybowman@example.com
LOCATION:https://enlightenment-demo.onedesigns.com/events/event/online-training-course/2027-05-12/
END:VEVENT
BEGIN:VEVENT
DTSTART;TZID=America/New_York:20270609T140000
DTEND;TZID=America/New_York:20270609T150000
DTSTAMP:20260419T094427
CREATED:20201116T224548Z
LAST-MODIFIED:20201116T224548Z
UID:12077-1812549600-1812553200@enlightenment-demo.onedesigns.com
SUMMARY:Online Training Course
DESCRIPTION:The live stream will show up here after purchasing a ticket. \n \n\n\n\nThis is a virtual event with hidden content and ticket sales. The live stream has been hidden using the [tribe_tickets_protected_content] shortcode. You can configure the Virtual Events add-on to show the live stream only to ticket holders. Users need to be logged in for this feature to work. \n\n\n\n\n \n\n\n\n 
URL:https://enlightenment-demo.onedesigns.com/events/event/online-training-course/2027-06-09/
CATEGORIES:Classes
ATTACH;FMTTYPE=image/jpeg:https://enlightenment-demo.onedesigns.com/events/wp-content/uploads/sites/6/2020/11/nathana-reboucas-SljXQgsYXtk-unsplash-scaled.jpg
ORGANIZER;CN="Larry Bowman":MAILTO:larrybowman@example.com
LOCATION:https://enlightenment-demo.onedesigns.com/events/event/online-training-course/2027-06-09/
END:VEVENT
BEGIN:VEVENT
DTSTART;TZID=America/New_York:20270714T140000
DTEND;TZID=America/New_York:20270714T150000
DTSTAMP:20260419T094427
CREATED:20201116T224548Z
LAST-MODIFIED:20201116T224548Z
UID:12191-1815573600-1815577200@enlightenment-demo.onedesigns.com
SUMMARY:Online Training Course
DESCRIPTION:The live stream will show up here after purchasing a ticket. \n \n\n\n\nThis is a virtual event with hidden content and ticket sales. The live stream has been hidden using the [tribe_tickets_protected_content] shortcode. You can configure the Virtual Events add-on to show the live stream only to ticket holders. Users need to be logged in for this feature to work. \n\n\n\n\n \n\n\n\n 
URL:https://enlightenment-demo.onedesigns.com/events/event/online-training-course/2027-07-14/
CATEGORIES:Classes
ATTACH;FMTTYPE=image/jpeg:https://enlightenment-demo.onedesigns.com/events/wp-content/uploads/sites/6/2020/11/nathana-reboucas-SljXQgsYXtk-unsplash-scaled.jpg
ORGANIZER;CN="Larry Bowman":MAILTO:larrybowman@example.com
LOCATION:https://enlightenment-demo.onedesigns.com/events/event/online-training-course/2027-07-14/
END:VEVENT
BEGIN:VEVENT
DTSTART;TZID=America/New_York:20270811T140000
DTEND;TZID=America/New_York:20270811T150000
DTSTAMP:20260419T094427
CREATED:20201116T224548Z
LAST-MODIFIED:20201116T224548Z
UID:12266-1817992800-1817996400@enlightenment-demo.onedesigns.com
SUMMARY:Online Training Course
DESCRIPTION:The live stream will show up here after purchasing a ticket. \n \n\n\n\nThis is a virtual event with hidden content and ticket sales. The live stream has been hidden using the [tribe_tickets_protected_content] shortcode. You can configure the Virtual Events add-on to show the live stream only to ticket holders. Users need to be logged in for this feature to work. \n\n\n\n\n \n\n\n\n 
URL:https://enlightenment-demo.onedesigns.com/events/event/online-training-course/2027-08-11/
CATEGORIES:Classes
ATTACH;FMTTYPE=image/jpeg:https://enlightenment-demo.onedesigns.com/events/wp-content/uploads/sites/6/2020/11/nathana-reboucas-SljXQgsYXtk-unsplash-scaled.jpg
ORGANIZER;CN="Larry Bowman":MAILTO:larrybowman@example.com
LOCATION:https://enlightenment-demo.onedesigns.com/events/event/online-training-course/2027-08-11/
END:VEVENT
BEGIN:VEVENT
DTSTART;TZID=America/New_York:20270908T140000
DTEND;TZID=America/New_York:20270908T150000
DTSTAMP:20260419T094427
CREATED:20201116T224548Z
LAST-MODIFIED:20201116T224548Z
UID:12336-1820412000-1820415600@enlightenment-demo.onedesigns.com
SUMMARY:Online Training Course
DESCRIPTION:The live stream will show up here after purchasing a ticket. \n \n\n\n\nThis is a virtual event with hidden content and ticket sales. The live stream has been hidden using the [tribe_tickets_protected_content] shortcode. You can configure the Virtual Events add-on to show the live stream only to ticket holders. Users need to be logged in for this feature to work. \n\n\n\n\n \n\n\n\n 
URL:https://enlightenment-demo.onedesigns.com/events/event/online-training-course/2027-09-08/
CATEGORIES:Classes
ATTACH;FMTTYPE=image/jpeg:https://enlightenment-demo.onedesigns.com/events/wp-content/uploads/sites/6/2020/11/nathana-reboucas-SljXQgsYXtk-unsplash-scaled.jpg
ORGANIZER;CN="Larry Bowman":MAILTO:larrybowman@example.com
LOCATION:https://enlightenment-demo.onedesigns.com/events/event/online-training-course/2027-09-08/
END:VEVENT
BEGIN:VEVENT
DTSTART;TZID=America/New_York:20271013T140000
DTEND;TZID=America/New_York:20271013T150000
DTSTAMP:20260419T094427
CREATED:20201116T224548Z
LAST-MODIFIED:20201116T224548Z
UID:12420-1823436000-1823439600@enlightenment-demo.onedesigns.com
SUMMARY:Online Training Course
DESCRIPTION:The live stream will show up here after purchasing a ticket. \n \n\n\n\nThis is a virtual event with hidden content and ticket sales. The live stream has been hidden using the [tribe_tickets_protected_content] shortcode. You can configure the Virtual Events add-on to show the live stream only to ticket holders. Users need to be logged in for this feature to work. \n\n\n\n\n \n\n\n\n 
URL:https://enlightenment-demo.onedesigns.com/events/event/online-training-course/2027-10-13/
CATEGORIES:Classes
ATTACH;FMTTYPE=image/jpeg:https://enlightenment-demo.onedesigns.com/events/wp-content/uploads/sites/6/2020/11/nathana-reboucas-SljXQgsYXtk-unsplash-scaled.jpg
ORGANIZER;CN="Larry Bowman":MAILTO:larrybowman@example.com
LOCATION:https://enlightenment-demo.onedesigns.com/events/event/online-training-course/2027-10-13/
END:VEVENT
BEGIN:VEVENT
DTSTART;TZID=America/New_York:20271110T140000
DTEND;TZID=America/New_York:20271110T150000
DTSTAMP:20260419T094427
CREATED:20201116T224548Z
LAST-MODIFIED:20201116T224548Z
UID:12480-1825855200-1825858800@enlightenment-demo.onedesigns.com
SUMMARY:Online Training Course
DESCRIPTION:The live stream will show up here after purchasing a ticket. \n \n\n\n\nThis is a virtual event with hidden content and ticket sales. The live stream has been hidden using the [tribe_tickets_protected_content] shortcode. You can configure the Virtual Events add-on to show the live stream only to ticket holders. Users need to be logged in for this feature to work. \n\n\n\n\n \n\n\n\n 
URL:https://enlightenment-demo.onedesigns.com/events/event/online-training-course/2027-11-10/
CATEGORIES:Classes
ATTACH;FMTTYPE=image/jpeg:https://enlightenment-demo.onedesigns.com/events/wp-content/uploads/sites/6/2020/11/nathana-reboucas-SljXQgsYXtk-unsplash-scaled.jpg
ORGANIZER;CN="Larry Bowman":MAILTO:larrybowman@example.com
LOCATION:https://enlightenment-demo.onedesigns.com/events/event/online-training-course/2027-11-10/
END:VEVENT
BEGIN:VEVENT
DTSTART;TZID=America/New_York:20271208T140000
DTEND;TZID=America/New_York:20271208T150000
DTSTAMP:20260419T094427
CREATED:20201116T224548Z
LAST-MODIFIED:20201116T224548Z
UID:12552-1828274400-1828278000@enlightenment-demo.onedesigns.com
SUMMARY:Online Training Course
DESCRIPTION:The live stream will show up here after purchasing a ticket. \n \n\n\n\nThis is a virtual event with hidden content and ticket sales. The live stream has been hidden using the [tribe_tickets_protected_content] shortcode. You can configure the Virtual Events add-on to show the live stream only to ticket holders. Users need to be logged in for this feature to work. \n\n\n\n\n \n\n\n\n 
URL:https://enlightenment-demo.onedesigns.com/events/event/online-training-course/2027-12-08/
CATEGORIES:Classes
ATTACH;FMTTYPE=image/jpeg:https://enlightenment-demo.onedesigns.com/events/wp-content/uploads/sites/6/2020/11/nathana-reboucas-SljXQgsYXtk-unsplash-scaled.jpg
ORGANIZER;CN="Larry Bowman":MAILTO:larrybowman@example.com
LOCATION:https://enlightenment-demo.onedesigns.com/events/event/online-training-course/2027-12-08/
END:VEVENT
BEGIN:VEVENT
DTSTART;TZID=America/New_York:20280112T140000
DTEND;TZID=America/New_York:20280112T150000
DTSTAMP:20260419T094427
CREATED:20201116T224548Z
LAST-MODIFIED:20201116T224548Z
UID:12634-1831298400-1831302000@enlightenment-demo.onedesigns.com
SUMMARY:Online Training Course
DESCRIPTION:The live stream will show up here after purchasing a ticket. \n \n\n\n\nThis is a virtual event with hidden content and ticket sales. The live stream has been hidden using the [tribe_tickets_protected_content] shortcode. You can configure the Virtual Events add-on to show the live stream only to ticket holders. Users need to be logged in for this feature to work. \n\n\n\n\n \n\n\n\n 
URL:https://enlightenment-demo.onedesigns.com/events/event/online-training-course/2028-01-12/
CATEGORIES:Classes
ATTACH;FMTTYPE=image/jpeg:https://enlightenment-demo.onedesigns.com/events/wp-content/uploads/sites/6/2020/11/nathana-reboucas-SljXQgsYXtk-unsplash-scaled.jpg
ORGANIZER;CN="Larry Bowman":MAILTO:larrybowman@example.com
LOCATION:https://enlightenment-demo.onedesigns.com/events/event/online-training-course/2028-01-12/
END:VEVENT
BEGIN:VEVENT
DTSTART;TZID=America/New_York:20280209T140000
DTEND;TZID=America/New_York:20280209T150000
DTSTAMP:20260419T094427
CREATED:20201116T224548Z
LAST-MODIFIED:20201116T224548Z
UID:12699-1833717600-1833721200@enlightenment-demo.onedesigns.com
SUMMARY:Online Training Course
DESCRIPTION:The live stream will show up here after purchasing a ticket. \n \n\n\n\nThis is a virtual event with hidden content and ticket sales. The live stream has been hidden using the [tribe_tickets_protected_content] shortcode. You can configure the Virtual Events add-on to show the live stream only to ticket holders. Users need to be logged in for this feature to work. \n\n\n\n\n \n\n\n\n 
URL:https://enlightenment-demo.onedesigns.com/events/event/online-training-course/2028-02-09/
CATEGORIES:Classes
ATTACH;FMTTYPE=image/jpeg:https://enlightenment-demo.onedesigns.com/events/wp-content/uploads/sites/6/2020/11/nathana-reboucas-SljXQgsYXtk-unsplash-scaled.jpg
ORGANIZER;CN="Larry Bowman":MAILTO:larrybowman@example.com
LOCATION:https://enlightenment-demo.onedesigns.com/events/event/online-training-course/2028-02-09/
END:VEVENT
BEGIN:VEVENT
DTSTART;TZID=America/New_York:20280308T140000
DTEND;TZID=America/New_York:20280308T150000
DTSTAMP:20260419T094427
CREATED:20201116T224548Z
LAST-MODIFIED:20201116T224548Z
UID:12767-1836136800-1836140400@enlightenment-demo.onedesigns.com
SUMMARY:Online Training Course
DESCRIPTION:The live stream will show up here after purchasing a ticket. \n \n\n\n\nThis is a virtual event with hidden content and ticket sales. The live stream has been hidden using the [tribe_tickets_protected_content] shortcode. You can configure the Virtual Events add-on to show the live stream only to ticket holders. Users need to be logged in for this feature to work. \n\n\n\n\n \n\n\n\n 
URL:https://enlightenment-demo.onedesigns.com/events/event/online-training-course/2028-03-08/
CATEGORIES:Classes
ATTACH;FMTTYPE=image/jpeg:https://enlightenment-demo.onedesigns.com/events/wp-content/uploads/sites/6/2020/11/nathana-reboucas-SljXQgsYXtk-unsplash-scaled.jpg
ORGANIZER;CN="Larry Bowman":MAILTO:larrybowman@example.com
LOCATION:https://enlightenment-demo.onedesigns.com/events/event/online-training-course/2028-03-08/
END:VEVENT
BEGIN:VEVENT
DTSTART;TZID=America/New_York:20280412T140000
DTEND;TZID=America/New_York:20280412T150000
DTSTAMP:20260419T094427
CREATED:20201116T224548Z
LAST-MODIFIED:20201116T224548Z
UID:12846-1839160800-1839164400@enlightenment-demo.onedesigns.com
SUMMARY:Online Training Course
DESCRIPTION:The live stream will show up here after purchasing a ticket. \n \n\n\n\nThis is a virtual event with hidden content and ticket sales. The live stream has been hidden using the [tribe_tickets_protected_content] shortcode. You can configure the Virtual Events add-on to show the live stream only to ticket holders. Users need to be logged in for this feature to work. \n\n\n\n\n \n\n\n\n 
URL:https://enlightenment-demo.onedesigns.com/events/event/online-training-course/2028-04-12/
CATEGORIES:Classes
ATTACH;FMTTYPE=image/jpeg:https://enlightenment-demo.onedesigns.com/events/wp-content/uploads/sites/6/2020/11/nathana-reboucas-SljXQgsYXtk-unsplash-scaled.jpg
ORGANIZER;CN="Larry Bowman":MAILTO:larrybowman@example.com
LOCATION:https://enlightenment-demo.onedesigns.com/events/event/online-training-course/2028-04-12/
END:VEVENT
END:VCALENDAR